BEGIN:VCALENDAR
VERSION:2.0
PRODID:-//Squarespace Inc/Squarespace 6//v6//EN
BEGIN:VEVENT
UID:610e8afe0578764a600c7e1a@squarespace.com
DTSTAMP:20210807T134947Z
DTSTART:20220704T140000Z
DTEND:20220710T200000Z
SUMMARY:Tap City 2022
END:VEVENT
END:VCALENDAR
