BEGIN:VCALENDAR
VERSION:2.0
PRODID:-//Squarespace Inc/Squarespace 6//v6//EN
BEGIN:VEVENT
UID:610e8f97b3e98e1d1c9f3abd@squarespace.com
DTSTAMP:20210820T123728Z
DTSTART:20220528T220000Z
DTEND:20220529T000000Z
SUMMARY:Tap City Youth Concert
END:VEVENT
END:VCALENDAR
