BEGIN:VCALENDAR
VERSION:2.0
PRODID:-//Squarespace Inc/Squarespace 6//v6//EN
BEGIN:VEVENT
UID:610e94bbcc6bf212f75231f6@squarespace.com
DTSTAMP:20210821T215858Z
DTSTART:20210924T180000Z
DTEND:20210924T193000Z
SUMMARY:Tony’s Tap TV
END:VEVENT
END:VCALENDAR
