BEGIN:VCALENDAR
VERSION:2.0
PRODID:-//Squarespace Inc/Squarespace 6//v6//EN
BEGIN:VEVENT
UID:6109f2f9f314fa18ee22c2db@squarespace.com
DTSTAMP:20210823T194842Z
DTSTART:20210912T140000Z
DTEND:20220618T200000Z
SUMMARY:Year-Round Youth Program
END:VEVENT
END:VCALENDAR
