BEGIN:VCALENDAR
VERSION:2.0
PRODID:-//Squarespace Inc/Squarespace 6//v6//EN
BEGIN:VEVENT
UID:610d9a025a5b1f6e24377c27@squarespace.com
DTSTAMP:20210823T194741Z
DTSTART:20210913T171500Z
DTEND:20220625T201000Z
SUMMARY:Year-Round Adult Program
END:VEVENT
END:VCALENDAR
