BEGIN:VCALENDAR
VERSION:2.0
PRODID:-//Squarespace Inc/Squarespace 6//v6//EN
BEGIN:VEVENT
UID:6111245d38a0da4db9055a9c@squarespace.com
DTSTAMP:20210809T195914Z
DTSTART:20210719T160000Z
DTEND:20220902T233000Z
SUMMARY:Summer Adult Classes
END:VEVENT
END:VCALENDAR
