BEGIN:VCALENDAR
VERSION:2.0
PRODID:-//Squarespace Inc/Squarespace 6//v6//EN
BEGIN:VEVENT
UID:611471da6aaf3e076cbed3f5@squarespace.com
DTSTAMP:20210812T015136Z
DTSTART:20210928T140000Z
DTEND:20210928T160000Z
SUMMARY:International Forum
END:VEVENT
END:VCALENDAR
